BEGIN:VCALENDAR
VERSION:2.0
PRODID:-//Beukendaal BTA - ECPv6.15.20//NONSGML v1.0//EN
CALSCALE:GREGORIAN
METHOD:PUBLISH
X-ORIGINAL-URL:https://bta518.org
X-WR-CALDESC:Events for Beukendaal BTA
REFRESH-INTERVAL;VALUE=DURATION:PT1H
X-Robots-Tag:noindex
X-PUBLISHED-TTL:PT1H
BEGIN:VTIMEZONE
TZID:UTC
BEGIN:STANDARD
TZOFFSETFROM:+0000
TZOFFSETTO:+0000
TZNAME:UTC
DTSTART:20250101T000000
END:STANDARD
END:VTIMEZONE
BEGIN:VEVENT
DTSTART;TZID=UTC:20260425T173000
DTEND;TZID=UTC:20260425T223000
DTSTAMP:20260419T122353
CREATED:20260310T231426Z
LAST-MODIFIED:20260404T171451Z
UID:410-1777138200-1777156200@bta518.org
SUMMARY:Cancelled - Beukendaal Murder Mystery
DESCRIPTION:We apologize but for reasons beyond our control\, this event has been cancelled. \nAll ticket sales will be reimbursed to thier original source of payment.
URL:https://bta518.org/event/beukendaal-murder-mystery-death-at-the-hooch-off-murder-in-1927/
LOCATION:Bingo Hall\, 93 W Campbell Rd\, Rotterdam\, 12306\, United States
END:VEVENT
END:VCALENDAR