BEGIN:VCALENDAR
VERSION:2.0
PRODID:-//eventon.com NONSGML v1.0//EN
CALSCALE:GREGORIAN
METHOD:PUBLISH
BEGIN:VEVENT
UID:69e4ea4d53729
DTSTAMP:20260419T144429Z
DTSTART:20260515T142800Z
DTEND:20260515T213000Z
LOCATION:
SUMMARY:Sigma Bodies AASR
DESCRIPTION:Sigma Bodies AASR\nhttps://bta518.org/events/sigma-bodies-aasr-
 4/
URL:https://bta518.org/events/sigma-bodies-aasr-4/
END:VEVENT
BEGIN:VEVENT
UID:69e4ea4d5379a
DTSTAMP:20260419T144429Z
DTSTART:20260525T230000Z
DTEND:20260526T013000Z
LOCATION:
SUMMARY:Sigma Bodies AASR
DESCRIPTION:Sigma Bodies AASR\nhttps://bta518.org/events/sigma-bodies-aasr-
 3/
URL:https://bta518.org/events/sigma-bodies-aasr-3/
END:VEVENT
BEGIN:VEVENT
UID:69e4ea4d537d1
DTSTAMP:20260419T144429Z
DTSTART:20260417T193000Z
DTEND:20260417T213000Z
LOCATION:
SUMMARY:Sigma Bodies AASR
DESCRIPTION:Sigma Bodies AASR\nhttps://bta518.org/events/sigma-bodies-aasr-
 2/
URL:https://bta518.org/events/sigma-bodies-aasr-2/
END:VEVENT
BEGIN:VEVENT
UID:69e4ea4d53806
DTSTAMP:20260419T144429Z
DTSTART:20260412T180000Z
DTEND:20260412T200000Z
LOCATION:
SUMMARY:Electric City Chapter DeMolay
DESCRIPTION:Electric City Chapter DeMolay\nhttps://bta518.org/events/electr
 ic-city-chapter-demolay/
URL:https://bta518.org/events/electric-city-chapter-demolay/
END:VEVENT
BEGIN:VEVENT
UID:69e4ea4d53858
DTSTAMP:20260419T144429Z
DTSTART:20260519T153000Z
DTEND:20260519T170000Z
LOCATION:
SUMMARY:BTA Meeting
DESCRIPTION:BTA Meeting\nhttps://bta518.org/events/bta-meeting/
URL:https://bta518.org/events/bta-meeting/
END:VEVENT
BEGIN:VEVENT
UID:69e4ea4d538c5
DTSTAMP:20260419T144429Z
DTSTART:20260402T160000Z
DTEND:20260402T220000Z
LOCATION:
SUMMARY:Shriner’s Bingo
DESCRIPTION:Shriner&#8217;s Bingo\nhttps://bta518.org/events/shriners-bingo
 /
URL:https://bta518.org/events/shriners-bingo/
END:VEVENT
BEGIN:VEVENT
UID:69e4ea4d5391f
DTSTAMP:20260419T144429Z
DTSTART:20260420T180000Z
DTEND:20260420T230000Z
LOCATION:
SUMMARY:St. George’s Commandery
DESCRIPTION:St. George&#8217;s Commandery\nhttps://bta518.org/events/st-geo
 rges-commandery-2/
URL:https://bta518.org/events/st-georges-commandery-2/
END:VEVENT
BEGIN:VEVENT
UID:69e4ea4d5394d
DTSTAMP:20260419T144429Z
DTSTART:20260417T193000Z
DTEND:20260417T230000Z
LOCATION:
SUMMARY:Sigma Bodies AASR
DESCRIPTION:Sigma Bodies AASR\nhttps://bta518.org/events/sigma-bodies-aasr/
URL:https://bta518.org/events/sigma-bodies-aasr/
END:VEVENT
BEGIN:VEVENT
UID:69e4ea4d5397d
DTSTAMP:20260419T144429Z
DTSTART:20260406T183000Z
DTEND:20260406T230000Z
LOCATION:
SUMMARY:St. George’s Commandery
DESCRIPTION:St. George&#8217;s Commandery\nhttps://bta518.org/events/st-geo
 rges-commandery/
URL:https://bta518.org/events/st-georges-commandery/
END:VEVENT
BEGIN:VEVENT
UID:69e4ea4d53a06
DTSTAMP:20260419T144429Z
DTSTART:20260425T173000Z
DTEND:20260425T223000Z
LOCATION:
SUMMARY:Beukendaal Murder Mystery – Death at the Hooch-Off Murder in 1927
DESCRIPTION:Beukendaal Murder Mystery – Death at the Hooch-Off Murder in 
 1927\nhttps://bta518.org/events/beukendaal-murder-mystery/
URL:https://bta518.org/events/beukendaal-murder-mystery/
END:VEVENT
BEGIN:VEVENT
UID:69e4ea4d53a62
DTSTAMP:20260419T144429Z
DTSTART:20260626T190000Z
DTEND:20260627T013000Z
LOCATION:
SUMMARY:Beukendaal #0915 – Fourth Of July BBQ!
DESCRIPTION:Beukendaal #0915 &#8211; Fourth Of July BBQ!\nhttps://bta518.or
 g/events/beukendaal-0915-fourth-of-july-bbq/
URL:https://bta518.org/events/beukendaal-0915-fourth-of-july-bbq/
END:VEVENT
BEGIN:VEVENT
UID:69e4ea4d53aa4
DTSTAMP:20260419T144429Z
DTSTART:20260609T173000Z
DTEND:20260609T210000Z
LOCATION:
SUMMARY:Beukendaal #0915 – Social – Officers Installation Night
DESCRIPTION:Beukendaal #0915 &#8211; Social &#8211; Officers Installation 
 Night\nhttps://bta518.org/events/beukendaal-0915-social-officers-installati
 on-night/
URL:https://bta518.org/events/beukendaal-0915-social-officers-installation-night/
END:VEVENT
BEGIN:VEVENT
UID:69e4ea4d53ae9
DTSTAMP:20260419T144429Z
DTSTART:20260526T213000Z
DTEND:20260527T010000Z
LOCATION:
SUMMARY:Beukendaal #0915 – Social – Awards Night
DESCRIPTION:Beukendaal #0915 &#8211; Social &#8211; Awards Night\nhttps://b
 ta518.org/events/beukendaal-0915-social-awards-night/
URL:https://bta518.org/events/beukendaal-0915-social-awards-night/
END:VEVENT
BEGIN:VEVENT
UID:69e4ea4d53b32
DTSTAMP:20260419T144429Z
DTSTART:20260512T173000Z
DTEND:20260512T210000Z
LOCATION:
SUMMARY:Beukendaal #0915 – Business Meeting – Annual Meeting
DESCRIPTION:Beukendaal #0915 &#8211; Business Meeting &#8211; Annual Meeti
 ng\nhttps://bta518.org/events/business-meeting-annual-meeting/
URL:https://bta518.org/events/business-meeting-annual-meeting/
END:VEVENT
BEGIN:VEVENT
UID:69e4ea4d53b76
DTSTAMP:20260419T144429Z
DTSTART:20260428T210000Z
DTEND:20260429T010000Z
LOCATION:
SUMMARY:Beukendaal #0915 Social
DESCRIPTION:Beukendaal #0915 Social\nhttps://bta518.org/events/beukendaal-0
 915-stated-communication/
URL:https://bta518.org/events/beukendaal-0915-stated-communication/
END:VEVENT
BEGIN:VEVENT
UID:69e4ea4d53bab
DTSTAMP:20260419T144429Z
DTSTART:20260414T210000Z
DTEND:20260415T010000Z
LOCATION:
SUMMARY:Beukendaal #0915 2nd Degree
DESCRIPTION:Beukendaal #0915 2nd Degree\nhttps://bta518.org/events/beukenda
 al-0915/
URL:https://bta518.org/events/beukendaal-0915/
END:VEVENT
END:VCALENDAR